BEGIN:VCALENDAR
PRODID:-//eluceo/ical//2.0/EN
VERSION:2.0
CALSCALE:GREGORIAN
BEGIN:VEVENT
UID:event-180
DTSTAMP:20260423T121855Z
SUMMARY:Webinar: Wereldfietser op de DHZ-groepsreis – met pilot Marokko
DESCRIPTION:De Wereldfietser ziet de doe-het-zelf groepsreis als een eigent
 ijdse vorm van samen op avontuur gaan: vrij\, flexibel en gebaseerd op ver
 trouwen in elkaar en in je eigen kunnen. Het vertrekpunt is gedeelde nieuw
 sgierigheid naar nieuwe gebieden\, gecombineerd met de kracht van collecti
 eve ervaring. We faciliteren dat reizigers goed voorbereid op pad gaan met
  GPX-bestanden\, overnachtingssuggesties en praktische tips. Tegelijk blij
 ft het eigenaarschap bij de groep zelf. Eén of enkele deelnemers nemen he
 t initiatief in de afstemming\, terwijl reisdata\, dagafstanden en routes 
 bewust ruimte laten voor gezamenlijke keuzes onderweg. Afwijken mag altijd
  — juist daarin zit de charme van een echte wereldfietsreis. We erkennen
  dat verschillen in tempo\, energie en interesses vanzelf ontstaan. Dat ma
 g leiden tot kleinere groepjes die ieder hun eigen ritme volgen\, zonder h
 et gevoel van verbondenheid te verliezen. Onderweg blijft hulp op afstand 
 beschikbaar\, maar alleen wanneer dat nodig is\; zelfstandigheid staat cen
 traal. Praktische zaken\, zoals gezamenlijke kosten\, regel je eenvoudig m
 et tools als Wie Betaalt Wat. De eerste DHZ-groepsreis staat\, bij voldoen
 de belangstelling\, gepland voor november en voert naar Marokko. We vliege
 n op Marrakech\, waarna een gezamenlijke fietstocht door de Hoge Atlas vol
 gt. Deze route is eerder al door bestuursleden van De Wereldfietser verken
 d en gereden\, met ondersteuning bij de voorbereiding en onderweg op afsta
 nd van Chris Baars. Dat bleek een geslaagde eerste proeve van een doe-het-
 zelf fietstocht: zelfstandig\, maar nooit alleen. Met deze reis willen we 
 leden en belangstellenden laten ervaren hoe krachtig deze vorm van samen r
 eizen kan zijn: goed voorbereid\, flexibel georganiseerd en gedragen door 
 de groep zelf. Heb je interesse om mee te denken of mogelijk aan te sluite
 n? Meld je dan aan voor dit webinar over de geplande fietsreis in Marokko.
  Daarin delen we ervaringen\, praktische informatie\, voorlopige reisconce
 pt en kijken we naar een mogelijke vertrekdatum bij voldoende belangstelli
 ng.
DTSTART:20260429T180000Z
DTEND:20260429T190000Z
END:VEVENT
BEGIN:VTIMEZONE
TZID:UTC
BEGIN:STANDARD
DTSTART:20260429T180000
TZNAME:UTC
TZOFFSETTO:+0000
TZOFFSETFROM:+0000
END:STANDARD
END:VTIMEZONE
END:VCALENDAR
