BEGIN:VCALENDAR
PRODID:-//eluceo/ical//2.0/EN
VERSION:2.0
CALSCALE:GREGORIAN
BEGIN:VEVENT
UID:event-182
DTSTAMP:20260421T110750Z
SUMMARY:Teutoburgerwald offroad tocht
DESCRIPTION:Teutoburgerwald offroad tocht van vrijdag 12 t/m zondag 14 juni
  2026 Naturpark Nördlich Teutoburgerwald-Wiehengebergte Osnabrükerland-T
 erra Vita. Dit behelst het gebied rond Osnabrück en zelfs door oud Osnab
 rück.  Als je donderdag al wilt komen is het mogelijk om te kamperen op 
 camping- und Freizeitgelände Attersee. Kom je met de trein dan is het 10
  km fietsen van Osnabrück HB. Vrijdag verzamelen en vertrekken we om 10.
 00 uur vlak bij de camping Attersee op de gratis Parkplatz 49504 Lotte. We
  fietsen in westelijke richting\, in Mettingen hebben we een koffiestop. 
  Nadat dat we het gebied ten noorden van Ibbenbüren hebben doorkruist ku
 nnen we bij Kloster Gravenhorst (met terras) genieten van een welverdiend
 e pauze.  Na weer wat heuvels komen we terug bij camping Zur Schönen Aus
 sicht en dan hebben we ongeveer 66 km gefietst. Zaterdag vlak bij de campi
 ng liggen een aantal ruggen en het is dan ook mooi om een dal te volgen. 
 Na deze beleving krijgen we het weekend nog mooie afdalingen en klimmetjes
 . We fietsen in oostelijke richting door veel verschillende landschappen.
  Voor wie van klimmen houd kan de Piesberg  192 m op fietsen bij de stee
 ngroeve. Na de stop bij Knollmeyers Mühle met terras\, gelegen in een sm
 al dal\, gaan we de heuvels weer in.  Even langs de supermarkt in Engter 
 en we komen aan bij campingplatz Waldwinkel waar ook een restaurant is. Za
 terdag 65 tot 70 km zonder de beklimming van de Piesberg. Zondag mijden we
  de heuvels niet en het zal een zeer afwisselende dag worden. Na heel wat 
 natuurbeleving en mooie uitzichten komen we ook deels door de stad Osnabr
 ück met zijn vele vakwerkhuizen. Zondag is de dagafstand ongeveer 65 km.
  Bij deze tocht is enige ervaring met het offroad fietsen - met bagage - i
 n de heuvels zeker aan te raden. Kun je de (laatste) groep niet bijhouden 
 dan moet je alleen fietsen en zelfstandig kunnen navigeren.  Een MTB hard
 tail fiets is doorgaans het meest geschikt voor offroad door de heuvels in
  het Teutoburgerwald. Heb je nog twijfels\, neem dan contact op met de in
 itiatiefnemer of stel je vraag op het forum. Initiatiefnemer Barbara Jans
 sen Disclaimer Deelname aan een of meerdere activiteiten is voor eigen ris
 ico. De vereniging en de initiatiefnemer kunnen op geen enkele weze aans
 prakelijk gesteld worden voor diefstal of schade in geval van ongeval\, le
 tsel\, etc. aan jezelf of derden. We raden je aan zelf zorg te dragen voor
  een reis-ongevallen en/of aansprakelijkheidsverzekering. Lees de inschri
 jvingsvoorwaarden en veiligheid tijdens tochten op de website.
DTSTART:20260611T220000Z
DTEND:20260614T120000Z
END:VEVENT
BEGIN:VTIMEZONE
TZID:UTC
BEGIN:STANDARD
DTSTART:20260611T220000
TZNAME:UTC
TZOFFSETTO:+0000
TZOFFSETFROM:+0000
END:STANDARD
END:VTIMEZONE
END:VCALENDAR
