BEGIN:VCALENDAR
PRODID:-//eluceo/ical//2.0/EN
VERSION:2.0
CALSCALE:GREGORIAN
BEGIN:VEVENT
UID:event-187
DTSTAMP:20260420T091208Z
SUMMARY:Amsterdam - Drie jaar avontuur\, één bioscoopavond
DESCRIPTION:Filmvertoning Alles Ertussenin - 3 jaar onderweg Na een uitverk
 ochte vertoning in Amersfoort brengen we deze bijzondere film graag naar m
 eer bioscopen en filmtheaters in Nederland! Op zondag 26 april om 18:00 u
 ur ben je van harte welkom bij cinema Het Ketelhuis op het Westergasterrei
 n in Amsterdam. Begin september 2022 stapten Joost en Maaike (@sustainable
 .wanderer) zonder vast plan op hun tweedehands Koga’s. Ze vertrokken van
 uit Rotterdam richting het zuiden. Hun missie? De wereld ontdekken op een 
 duurzame manier en het avontuur onderweg omarmen. Dat de reis uiteindelijk
  bijna drie jaar zou duren – een tocht door drie continenten en zelfs ze
 ilend over een oceaan – hadden ze nooit verwacht. Van polder tot Sahara\
 , van jungle tot gletsjer: Alles Ertussenin neemt je mee op een buitengewo
 ne expeditie. De film vertelt het verhaal van het buiten leven\, van onver
 wachte ontmoetingen en hoe twee fietsen overal deuren openden. Beleef een 
 eerlijke kijk op het fietsleven: niet alleen de hoogtepunten\, maar ook de
  diepe dalen – en vooral ook het geluk dat schuilt in de kleine dingen. 
 Kom 26 april naar de vertoning van ‘Alles Ertussenin’ en beleef drie 
 jaar avontuur in één avond! 📍 Locatie: Filmtheater Het Ketelhuis\, Pa
 zzanistraat 4 in Amsterdam op het Westergasterrein. 🔹Kom je ook langs? 
 We zien je graag zondag 26 februari om 18:00 uur\, film start om 18:30
  uur\, afloop om circa 20:30 uur. Na afloop van de film kun je vragen st
 ellen aan Maaike en Joost en is het gezellige café nog geopend voor een d
 rankje en even na te praten. Tip: combineer vertoning van de film met midd
 agje Amsterdam en/of diner in één van de vele nabijgelegen restaurants. 
 Wil je je afmelden? Laat het dan zo snel mogelijk weten\, zodat iemand and
 ers jouw plek kan innemen. De aanmeldkosten worden niet terugbetaald. Zodr
 a je op 'annuleren' klikt gaat er een e-mail naar personen op de wachtlijs
 t. Je kunt natuurlijk ook zelf een vervanger regelen. Gebruik in dat geval
  dan niet de knop 'Annuleren' maar stuur dan een e-mail naar activiteiten
 @wereldfietser.nl met de naam van je vervanger.
DTSTART:20260426T163000Z
DTEND:20260426T183000Z
LOCATION:Cinema Het Ketelhuis
END:VEVENT
BEGIN:VTIMEZONE
TZID:UTC
BEGIN:STANDARD
DTSTART:20260426T163000
TZNAME:UTC
TZOFFSETTO:+0000
TZOFFSETFROM:+0000
END:STANDARD
END:VTIMEZONE
END:VCALENDAR
