BEGIN:VCALENDAR
PRODID:-//eluceo/ical//2.0/EN
VERSION:2.0
CALSCALE:GREGORIAN
BEGIN:VEVENT
UID:event-188
DTSTAMP:20260421T111711Z
SUMMARY:Maastricht - Drie jaar avontuur\, één bioscoopmiddag
DESCRIPTION:Filmvertoning Alles Ertussenin - 3 jaar onderweg Na een uitverk
 ochte vertoning in Amersfoort brengen we deze bijzondere film graag naar m
 eer bioscopen en filmtheaters in Nederland! Op zondag 7 juni om 15:30 uur
  ben je van harte welkom bij Lumière cinema in Maastricht. Begin septembe
 r 2022 stapten Joost en Maaike (@sustainable.wanderer) zonder vast plan op
  hun tweedehands Koga’s. Ze vertrokken vanuit Rotterdam richting het zui
 den. Hun missie? De wereld ontdekken op een duurzame manier en het avontuu
 r onderweg omarmen. Dat de reis uiteindelijk bijna drie jaar zou duren –
  een tocht door drie continenten en zelfs zeilend over een oceaan – hadd
 en ze nooit verwacht. Van polder tot Sahara\, van jungle tot gletsjer: All
 es Ertussenin neemt je mee op een buitengewone expeditie. De film vertelt 
 het verhaal van het buiten leven\, van onverwachte ontmoetingen en hoe twe
 e fietsen overal deuren openden. Beleef een eerlijke kijk op het fietsleve
 n: niet alleen de hoogtepunten\, maar ook de diepe dalen – en vooral ook
  het geluk dat schuilt in de kleine dingen. Kom 7 juni naar de vertoning 
 van ‘Alles Ertussenin’ en beleef drie jaar avontuur in één avond! 
 📍 Locatie: Lumière cinema\, Bassin 88\, 6211 AK Maastricht 🔹Kom je 
 ook langs? We zien je graag zondag 7 juni om 15:30 uur\, film start om 1
 6:00 uur\, afloop om circa 18:00 uur. Na afloop van de film kun je vrage
 n stellen aan Maaike en Joost en is het gezellige café nog geopend voor e
 en drankje en even na te praten. Tip: combineer vertoning van de film met 
 middagje Maastricht en/of diner in één van de vele nabijgelegen restaur
 ants. Wil je je afmelden? Laat het dan zo snel mogelijk weten\, zodat iema
 nd anders jouw plek kan innemen. De aanmeldkosten worden niet terugbetaald
 . Zodra je op 'annuleren' klikt gaat er een e-mail naar personen op de wac
 htlijst. Je kunt natuurlijk ook zelf een vervanger regelen. Gebruik in dat
  geval dan niet de knop 'Annuleren' maar stuur dan een e-mail naar activi
 teiten@wereldfietser.nl met de naam van je vervanger.
DTSTART:20260607T140000Z
DTEND:20260607T160000Z
LOCATION:Lumière
END:VEVENT
BEGIN:VTIMEZONE
TZID:UTC
BEGIN:STANDARD
DTSTART:20260607T140000
TZNAME:UTC
TZOFFSETTO:+0000
TZOFFSETFROM:+0000
END:STANDARD
END:VTIMEZONE
END:VCALENDAR
