BEGIN:VCALENDAR
PRODID:-//eluceo/ical//2.0/EN
VERSION:2.0
CALSCALE:GREGORIAN
BEGIN:VEVENT
UID:event-191
DTSTAMP:20260421T111656Z
SUMMARY:WereldfietserCafé Utrecht - Licht bepakt van Griekenland naar Nede
 rland\, dwars door de Balkan
DESCRIPTION:Op zaterdag 27 juni om 15:00 uur ontvangen wij je graag bij 
 het WereldfietserCafé in de bieb in Utrecht.  Droom jij ervan om naar B
 erlijn\, Rome of misschien zelfs helemaal naar Peking te fietsen? Kom lang
 s en ontmoet andere avonturiers met dezelfde plannen. Laat je inspireren d
 oor de vele reisboeken\, ervaren fietsreizigers\, luister naar hun verhal
 en\, stel al je vragen en deel jouw eigen dromen.  Het WereldfietserCafé
  is dé plek om plannen om te zetten in avontuur. Graag laten wij je kenni
 smaken met Rowan van Driel. Stap op en fiets mee met Rowan van Driel\, die
  van Griekenland helemaal terug naar Nederland trapte. Hoe bereid je zo’
 n avontuur voor? Waar vind je de allermooiste plekken in de Balkan? En hoe
  stippel je een route uit die je blijft verrassen? Rowan vertelt het je al
 lemaal. Onderweg was het allesbehalve saai: een gesloten grens hier\, een 
 onverwacht warm welkom daar en fietsen in landen waar je soms nog een bezi
 enswaardigheid bent. Met zijn ultralichte setup op een racefiets (zonder b
 agagedrager!) laat hij zien hoe weinig je eigenlijk nodig hebt – en deel
 t hij slimme tips over bepakking en organisatie. Kortom: een verhaal vol a
 vontuur\, improvisatie en inspiratie 🚲 Meld je aan\, laat je inspireren
 \, stel al je vragen en ontdek wat jij kunt leren van Rowans ervaringen. 
 Ook het bestuur van De Wereldfietser is aanwezig – een mooie kans om ide
 eën te delen en mee te praten over de toekomst van De Wereldfietser.  Ex
 tra... Wat is jouw favoriete fietsboek? Van stoffige woestijnroutes tot kl
 etsnatte polderpaden\, van solo-avonturen tot reizen met een bonte club 
 – fietsboeken nemen je overal mee naartoe. Welk boek\, of misschien dat 
 ene fragment\, raakte jou het meest? Deel jouw favoriet! Mail ons en pitch
  ’m – of lees een stukje voor – tijdens het WereldfietserCafé. In e
 en paar minuten neem je anderen mee op pad. Wie weet maak jij ze net zo en
 thousiast voor hun volgende fietsavontuur 🚲📚 📍 Locatie: Bibliothe
 ek Neude\, Utrecht. Fiets kun je gratis en bewaakt (!!) parkeren onder de 
 bibliotheek. Kom je met de trein? Bibliotheek Neude ligt op circa 10 min
 uten lopen vanaf Utrecht Centraal. 🔹Zien wij je daar? We verwelkomen je
  graag op zaterdag 27 juni om 15:00 uur\, afloop rond 17:30 uur. Aanmeld
 en is gratis maar vol = vol\, neem je ticket mee (geprint of digitaal).
DTSTART:20260627T130000Z
DTEND:20260627T153000Z
LOCATION:Centrale bibliotheek Utrecht
END:VEVENT
BEGIN:VTIMEZONE
TZID:UTC
BEGIN:STANDARD
DTSTART:20260627T130000
TZNAME:UTC
TZOFFSETTO:+0000
TZOFFSETFROM:+0000
END:STANDARD
END:VTIMEZONE
END:VCALENDAR
