BEGIN:VCALENDAR
PRODID:-//eluceo/ical//2.0/EN
VERSION:2.0
CALSCALE:GREGORIAN
BEGIN:VEVENT
UID:event-95
DTSTAMP:20260423T172155Z
SUMMARY:Het 1e jaar van een wereldreis
DESCRIPTION:Hoe is het eerste jaar van een wereldreis op de fiets? Eric en 
 Maudi waren ongelooflijk opgewonden om te gaan\, maar ook een beetje angst
 ig om mogelijk twee jaar of langer van huis te gaan. Met veel prachtige on
 tmoetingen onderweg\, prachtige landschappen\, wildkamperen en het koken v
 an hun eigen maaltijden\, misten ze nog steeds hun familie en vrienden\, m
 aar ontdekten ze een wereld vol gastvrijheid en wonderen in hun reis richt
 ing de rijzende zon... Gelukkig hebben ze dat in een film mooi samen gebra
 cht. Leer hier meer info door op 28 april om 20:00 online samen hun video 
 van 22 minuten te bekijken (op een andere manier dan tijdens de laatste on
 line lezing) en achteraf met hun hierover in gesprek te gaan. Ideaal als o
 pwarmertje voor het beginnersweekend begin mei. Schrijf je hieronder in. J
 e ontvangt een dag van tevoren een uitnodigingslink. Kijk ook alvast op h
 un website of socialmediakanalen.
DTSTART:20240428T180000Z
DTEND:20240428T193000Z
LOCATION:Online
END:VEVENT
BEGIN:VTIMEZONE
TZID:UTC
BEGIN:STANDARD
DTSTART:20240428T180000
TZNAME:UTC
TZOFFSETTO:+0000
TZOFFSETFROM:+0000
END:STANDARD
END:VTIMEZONE
END:VCALENDAR
